BEGIN:VCALENDAR
VERSION:2.0
PRODID:-//Erwachsene Geschwister - ECPv6.15.20//NONSGML v1.0//EN
CALSCALE:GREGORIAN
METHOD:PUBLISH
X-ORIGINAL-URL:https://erwachsene-geschwister.de
X-WR-CALDESC:Veranstaltungen für Erwachsene Geschwister
REFRESH-INTERVAL;VALUE=DURATION:PT1H
X-Robots-Tag:noindex
X-PUBLISHED-TTL:PT1H
BEGIN:VTIMEZONE
TZID:Europe/Berlin
BEGIN:DAYLIGHT
TZOFFSETFROM:+0100
TZOFFSETTO:+0200
TZNAME:CEST
DTSTART:20180325T010000
END:DAYLIGHT
BEGIN:STANDARD
TZOFFSETFROM:+0200
TZOFFSETTO:+0100
TZNAME:CET
DTSTART:20181028T010000
END:STANDARD
BEGIN:DAYLIGHT
TZOFFSETFROM:+0100
TZOFFSETTO:+0200
TZNAME:CEST
DTSTART:20190331T010000
END:DAYLIGHT
BEGIN:STANDARD
TZOFFSETFROM:+0200
TZOFFSETTO:+0100
TZNAME:CET
DTSTART:20191027T010000
END:STANDARD
BEGIN:DAYLIGHT
TZOFFSETFROM:+0100
TZOFFSETTO:+0200
TZNAME:CEST
DTSTART:20200329T010000
END:DAYLIGHT
BEGIN:STANDARD
TZOFFSETFROM:+0200
TZOFFSETTO:+0100
TZNAME:CET
DTSTART:20201025T010000
END:STANDARD
END:VTIMEZONE
BEGIN:VEVENT
DTSTART;TZID=Europe/Berlin:20190905T190000
DTEND;TZID=Europe/Berlin:20190905T220000
DTSTAMP:20260425T141400
CREATED:20190811T190515Z
LAST-MODIFIED:20190811T190515Z
UID:1390-1567710000-1567720800@erwachsene-geschwister.de
SUMMARY:Stammtisch in Bielefeld von und für erwachsene Geschwister von Menschen mit Behinderungen und chronischen Erkrankungen
DESCRIPTION:Liebe Geschwister\,\nwas in anderen Städten teilweise schon etabliert ist\, versuchen wir jetzt auch in Bielefeld. Denn: Einige von uns haben den Wunsch sich zu vernetzen und auszutauschen über ganz verschiedene Dinge\, die unsere doch besondere Lebenssituation betreffen. Und nicht zuletzt\, um von unseren Geschwistern zu erzählen. Was wir erleben\, was ganz großartig und was vielleicht auch manchmal nicht so gut ist. Erster Termin des Stammtischs soll sein am \nDonnerstag\, den 5. September ab 19 Uhr im Univarza. \nDas Restaurant liegt unübersehbar in der Halle der Uni Bielefeld\, Universitätsstr. 25\, 33615 Bielefeld. \nBei Fragen o.ä. meldet euch gerne unter bielefeld@erwachsene-geschwister.de \nBis dahin! Anne Stöcker
URL:https://erwachsene-geschwister.de/event/stammtisch-in-bielefeld-von-und-fuer-erwachsene-geschwister-von-menschen-mit-behinderungen-und-chronischen-erkrankungen/
LOCATION:Bielefeld
CATEGORIES:Stammtisch
ATTACH;FMTTYPE=image/png:https://erwachsene-geschwister.de/wp-content/uploads/2019/08/Bildschirmfoto-2019-08-11-um-21.04.19.png
ORGANIZER;CN="Stammtisch Bielefeld":MAILTO:bielefeld@erwachsene-geschwister.de
END:VEVENT
BEGIN:VEVENT
DTSTART;TZID=Europe/Berlin:20190926T183000
DTEND;TZID=Europe/Berlin:20190926T183000
DTSTAMP:20260425T141400
CREATED:20190312T192358Z
LAST-MODIFIED:20190312T192358Z
UID:1305-1569522600-1569522600@erwachsene-geschwister.de
SUMMARY:Kölner Stammtisch Erwachsene Geschwister
DESCRIPTION:Erwachsene Geschwister von Menschen mit Behinderung treffen sich in der Region Köln zum gemeinsamen Austausch. Schreib einfach an koeln@erwachsene-geschwister.de wenn du teilnehmen willst.
URL:https://erwachsene-geschwister.de/event/koelner-stammtisch-erwachsene-geschwister-11/
LOCATION:Köln\, Köln\, Deutschland
CATEGORIES:Stammtisch
ATTACH;FMTTYPE=image/jpeg:https://erwachsene-geschwister.de/wp-content/uploads/2014/06/regionalerstammtisch-1024x681.jpg
ORGANIZER;CN="Stammtisch K%C3%B6ln":MAILTO:koeln@erwachsene-geschwister.de
END:VEVENT
END:VCALENDAR