BEGIN:VCALENDAR
VERSION:2.0
PRODID:-//Erwachsene Geschwister - ECPv6.15.20//NONSGML v1.0//EN
CALSCALE:GREGORIAN
METHOD:PUBLISH
X-ORIGINAL-URL:https://erwachsene-geschwister.de
X-WR-CALDESC:Veranstaltungen für Erwachsene Geschwister
REFRESH-INTERVAL;VALUE=DURATION:PT1H
X-Robots-Tag:noindex
X-PUBLISHED-TTL:PT1H
BEGIN:VTIMEZONE
TZID:Europe/Berlin
BEGIN:DAYLIGHT
TZOFFSETFROM:+0100
TZOFFSETTO:+0200
TZNAME:CEST
DTSTART:20180325T010000
END:DAYLIGHT
BEGIN:STANDARD
TZOFFSETFROM:+0200
TZOFFSETTO:+0100
TZNAME:CET
DTSTART:20181028T010000
END:STANDARD
BEGIN:DAYLIGHT
TZOFFSETFROM:+0100
TZOFFSETTO:+0200
TZNAME:CEST
DTSTART:20190331T010000
END:DAYLIGHT
BEGIN:STANDARD
TZOFFSETFROM:+0200
TZOFFSETTO:+0100
TZNAME:CET
DTSTART:20191027T010000
END:STANDARD
BEGIN:DAYLIGHT
TZOFFSETFROM:+0100
TZOFFSETTO:+0200
TZNAME:CEST
DTSTART:20200329T010000
END:DAYLIGHT
BEGIN:STANDARD
TZOFFSETFROM:+0200
TZOFFSETTO:+0100
TZNAME:CET
DTSTART:20201025T010000
END:STANDARD
END:VTIMEZONE
BEGIN:VEVENT
DTSTART;TZID=Europe/Berlin:20191006T160000
DTEND;TZID=Europe/Berlin:20191006T160000
DTSTAMP:20260425T121741
CREATED:20190315T204054Z
LAST-MODIFIED:20190315T204054Z
UID:1323-1570377600-1570377600@erwachsene-geschwister.de
SUMMARY:Stammtisch in Frankfurt am Main
DESCRIPTION:Geschwister aus Frankfurt am Main treffen sich zum Geschwister-Stammtisch FFM. Hast du nicht Lust mal dabei zu sein? Dann schreib an frankfurt@erwachsene-geschwister.de.
URL:https://erwachsene-geschwister.de/event/stammtisch-in-frankfurt-am-main-17/
CATEGORIES:Stammtisch
ATTACH;FMTTYPE=image/jpeg:https://erwachsene-geschwister.de/wp-content/uploads/2017/04/FM-Skyline-ErwachseneGeschwister.jpg
ORGANIZER;CN="Stammtisch Frankfurt":MAILTO:frankfurt@erwachsene-geschwister.de
END:VEVENT
END:VCALENDAR