BEGIN:VCALENDAR
VERSION:2.0
PRODID:-//Erwachsene Geschwister - ECPv6.15.20//NONSGML v1.0//EN
CALSCALE:GREGORIAN
METHOD:PUBLISH
X-ORIGINAL-URL:https://erwachsene-geschwister.de
X-WR-CALDESC:Veranstaltungen für Erwachsene Geschwister
REFRESH-INTERVAL;VALUE=DURATION:PT1H
X-Robots-Tag:noindex
X-PUBLISHED-TTL:PT1H
BEGIN:VTIMEZONE
TZID:Europe/Berlin
BEGIN:DAYLIGHT
TZOFFSETFROM:+0100
TZOFFSETTO:+0200
TZNAME:CEST
DTSTART:20200329T010000
END:DAYLIGHT
BEGIN:STANDARD
TZOFFSETFROM:+0200
TZOFFSETTO:+0100
TZNAME:CET
DTSTART:20201025T010000
END:STANDARD
BEGIN:DAYLIGHT
TZOFFSETFROM:+0100
TZOFFSETTO:+0200
TZNAME:CEST
DTSTART:20210328T010000
END:DAYLIGHT
BEGIN:STANDARD
TZOFFSETFROM:+0200
TZOFFSETTO:+0100
TZNAME:CET
DTSTART:20211031T010000
END:STANDARD
BEGIN:DAYLIGHT
TZOFFSETFROM:+0100
TZOFFSETTO:+0200
TZNAME:CEST
DTSTART:20220327T010000
END:DAYLIGHT
BEGIN:STANDARD
TZOFFSETFROM:+0200
TZOFFSETTO:+0100
TZNAME:CET
DTSTART:20221030T010000
END:STANDARD
END:VTIMEZONE
BEGIN:VEVENT
DTSTART;TZID=Europe/Berlin:20211105T000000
DTEND;TZID=Europe/Berlin:20211107T000000
DTSTAMP:20260423T140117
CREATED:20210202T171530Z
LAST-MODIFIED:20210202T171741Z
UID:1580-1636070400-1636243200@erwachsene-geschwister.de
SUMMARY:Geschwistermeeting 2021
DESCRIPTION:7. Geschwistermeeting für Erwachsene Geschwister von Menschen mit Behinderung in Köln. Interesse? meeting@erwachsene-geschwister.de.
URL:https://erwachsene-geschwister.de/event/geschwistermeeting-in-koeln-2/
LOCATION:Köln\, Köln\, Deutschland
CATEGORIES:Geschwistermeeting
ATTACH;FMTTYPE=image/jpeg:https://erwachsene-geschwister.de/wp-content/uploads/2020/09/Meeting-2021-Insta.jpg
ORGANIZER;CN="Stammtisch K%C3%B6ln":MAILTO:koeln@erwachsene-geschwister.de
END:VEVENT
BEGIN:VEVENT
DTSTART;TZID=Europe/Berlin:20211117T180000
DTEND;TZID=Europe/Berlin:20211117T180000
DTSTAMP:20260423T140117
CREATED:20210202T173011Z
LAST-MODIFIED:20210202T173011Z
UID:1592-1637172000-1637172000@erwachsene-geschwister.de
SUMMARY:Stammtisch in Frankfurt am Main
DESCRIPTION:Geschwister aus Frankfurt am Main treffen sich zum Geschwister-Stammtisch FFM. Hast du nicht Lust mal dabei zu sein? Dann schreib an frankfurt@erwachsene-geschwister.de.
URL:https://erwachsene-geschwister.de/event/stammtisch-in-frankfurt-am-main-29/
CATEGORIES:Stammtisch
ATTACH;FMTTYPE=image/jpeg:https://erwachsene-geschwister.de/wp-content/uploads/2017/04/FM-Skyline-ErwachseneGeschwister.jpg
ORGANIZER;CN="Stammtisch Frankfurt":MAILTO:frankfurt@erwachsene-geschwister.de
END:VEVENT
BEGIN:VEVENT
DTSTART;TZID=Europe/Berlin:20211125T183000
DTEND;TZID=Europe/Berlin:20211125T183000
DTSTAMP:20260423T140117
CREATED:20210202T171530Z
LAST-MODIFIED:20210202T171530Z
UID:1579-1637865000-1637865000@erwachsene-geschwister.de
SUMMARY:Kölner Stammtisch Erwachsene Geschwister
DESCRIPTION:Erwachsene Geschwister von Menschen mit Behinderung treffen sich in der Region Köln zum gemeinsamen Austausch. Schreib einfach an koeln@erwachsene-geschwister.de wenn du teilnehmen willst.
URL:https://erwachsene-geschwister.de/event/koelner-stammtisch-erwachsene-geschwister-24/
LOCATION:Köln\, Köln\, Deutschland
CATEGORIES:Stammtisch
ATTACH;FMTTYPE=image/jpeg:https://erwachsene-geschwister.de/wp-content/uploads/2014/06/regionalerstammtisch-1024x681.jpg
ORGANIZER;CN="Stammtisch K%C3%B6ln":MAILTO:koeln@erwachsene-geschwister.de
END:VEVENT
END:VCALENDAR