BEGIN:VCALENDAR
VERSION:2.0
PRODID:-//Erwachsene Geschwister - ECPv6.15.20//NONSGML v1.0//EN
CALSCALE:GREGORIAN
METHOD:PUBLISH
X-WR-CALNAME:Erwachsene Geschwister
X-ORIGINAL-URL:https://erwachsene-geschwister.de
X-WR-CALDESC:Veranstaltungen für Erwachsene Geschwister
REFRESH-INTERVAL;VALUE=DURATION:PT1H
X-Robots-Tag:noindex
X-PUBLISHED-TTL:PT1H
BEGIN:VTIMEZONE
TZID:Europe/Berlin
BEGIN:DAYLIGHT
TZOFFSETFROM:+0100
TZOFFSETTO:+0200
TZNAME:CEST
DTSTART:20210328T010000
END:DAYLIGHT
BEGIN:STANDARD
TZOFFSETFROM:+0200
TZOFFSETTO:+0100
TZNAME:CET
DTSTART:20211031T010000
END:STANDARD
BEGIN:DAYLIGHT
TZOFFSETFROM:+0100
TZOFFSETTO:+0200
TZNAME:CEST
DTSTART:20220327T010000
END:DAYLIGHT
BEGIN:STANDARD
TZOFFSETFROM:+0200
TZOFFSETTO:+0100
TZNAME:CET
DTSTART:20221030T010000
END:STANDARD
BEGIN:DAYLIGHT
TZOFFSETFROM:+0100
TZOFFSETTO:+0200
TZNAME:CEST
DTSTART:20230326T010000
END:DAYLIGHT
BEGIN:STANDARD
TZOFFSETFROM:+0200
TZOFFSETTO:+0100
TZNAME:CET
DTSTART:20231029T010000
END:STANDARD
END:VTIMEZONE
BEGIN:VEVENT
DTSTART;TZID=Europe/Berlin:20220522T110000
DTEND;TZID=Europe/Berlin:20220522T130000
DTSTAMP:20260423T022231
CREATED:20220322T184424Z
LAST-MODIFIED:20220322T184511Z
UID:1729-1653217200-1653224400@erwachsene-geschwister.de
SUMMARY:Köln : moderierter Geschwister Talk
DESCRIPTION:Hast du Lust\, dich in einem moderierten GeschwisterTalk über tiefergehende Themen auszutauschen? Seit Anfang 2022 findet in regelmäßigen Abständen ein “ moderiertes GeschwisterTalk“-Treffen statt. Das Ziel des GeschwisterTalks besteht darin\, dass wir uns gegenseitig empowern und voneinander lernen können – oder uns einfach mal „auskotzen“ oder auch weinen können. Wir alle haben bereits viele Erfahrungen gesammelt und wir können uns gegenseitig in unserer persönlichen Entwicklung unterstützen. \nIn den Treffen sprechen wir gemeinsam über individuelle Situationen\, aktuelle Anliegen oder allgemeine Fragen wie zum Beispiel: \n\nWie geht es mir im Moment mit meiner Lebenssituation?\nWelche Auswirkungen hat mein Aufwachsen auf mich gehabt und hat es bis heute?\nInwiefern beeinflusst mein Aufwachsen meine Beziehungen?\nWie wird mein Selbstwert davon bestimmt?\nWie gehen ich mit den Themen Verantwortung und Schuld um?\nKann ich gesunde Grenzen ziehen?\n…\n\nDie Treffen finden in einem geschützten Raum statt\, sodass wir uns ungestört austauschen können. Methodisch ist eine Moderation angedacht\, damit Sprechanteile gleichmäßig verteilt werden und gemeinsam entschiedene Themenfelder tiefer bearbeitet werden können. \nWo? KU: – Raum\nBayenstraße 11\n50678 Köln \nExtras: Der Raum kann gegen Spende von uns genutzt werden. Ansonsten entstehen keine Kosten. \nKurz zu mir: Ich bin Naomi\, 28 Jahre und habe im Master Soziale Arbeit an der TH Köln studiert. Im Moment arbeite ich als Trainerin für diverse Workshops. Mein Bruder heißt Tiemo\, ist 22 Jahre alt und hat Trisomie21. \n  \n \n„keep calm it´s only an extra chromosome“ \n  \nIch habe mich in Form von mehreren Therapien und Teilnahmen an anderen Geschwistermeetings viel mit den Auswirkungen und meinen Verhaltensweisen aufgrund meiner Geschwistersituation beschäftigt. Mit dem GeschwisterTalk möchte ich gemeinsam noch mehr erfahren\, einen Austausch und Selbstreflexion fördern und uns gegenseitig empowern. \nIch freue mich\, wenn du dabei ist! 🙂 \nbitte schreib an naomi@erwachsene-geschwister.de wenn du dabei sein willst. \nLiebe Grüße Naomi
URL:https://erwachsene-geschwister.de/event/koeln-moderierter-geschwister-talk-3/
LOCATION:KU: – Raum\, Bayenstraße 11\, Köln\, 50678
CATEGORIES:Stammtisch
ORGANIZER;CN="Erwachsene Geschwister K%C3%B6ln - Naomi":MAILTO:naomi@erwachsene-geschiwster.de
END:VEVENT
BEGIN:VEVENT
DTSTART;TZID=Europe/Berlin:20220526T183000
DTEND;TZID=Europe/Berlin:20220526T183000
DTSTAMP:20260423T022231
CREATED:20220117T142758Z
LAST-MODIFIED:20220117T142758Z
UID:1660-1653589800-1653589800@erwachsene-geschwister.de
SUMMARY:Kölner Stammtisch Erwachsene Geschwister
DESCRIPTION:Erwachsene Geschwister von Menschen mit Behinderung treffen sich in der Region Köln zum gemeinsamen Austausch. Schreib einfach an koeln@erwachsene-geschwister.de wenn du teilnehmen willst.
URL:https://erwachsene-geschwister.de/event/koelner-stammtisch-erwachsene-geschwister-27/
LOCATION:Köln\, Köln\, Deutschland
CATEGORIES:Stammtisch
ATTACH;FMTTYPE=image/jpeg:https://erwachsene-geschwister.de/wp-content/uploads/2014/06/regionalerstammtisch-1024x681.jpg
ORGANIZER;CN="Stammtisch K%C3%B6ln":MAILTO:koeln@erwachsene-geschwister.de
END:VEVENT
END:VCALENDAR