BEGIN:VCALENDAR
VERSION:2.0
PRODID:-//Erwachsene Geschwister - ECPv6.15.20//NONSGML v1.0//EN
CALSCALE:GREGORIAN
METHOD:PUBLISH
X-WR-CALNAME:Erwachsene Geschwister
X-ORIGINAL-URL:https://erwachsene-geschwister.de
X-WR-CALDESC:Veranstaltungen für Erwachsene Geschwister
REFRESH-INTERVAL;VALUE=DURATION:PT1H
X-Robots-Tag:noindex
X-PUBLISHED-TTL:PT1H
BEGIN:VTIMEZONE
TZID:Europe/Berlin
BEGIN:DAYLIGHT
TZOFFSETFROM:+0100
TZOFFSETTO:+0200
TZNAME:CEST
DTSTART:20210328T010000
END:DAYLIGHT
BEGIN:STANDARD
TZOFFSETFROM:+0200
TZOFFSETTO:+0100
TZNAME:CET
DTSTART:20211031T010000
END:STANDARD
BEGIN:DAYLIGHT
TZOFFSETFROM:+0100
TZOFFSETTO:+0200
TZNAME:CEST
DTSTART:20220327T010000
END:DAYLIGHT
BEGIN:STANDARD
TZOFFSETFROM:+0200
TZOFFSETTO:+0100
TZNAME:CET
DTSTART:20221030T010000
END:STANDARD
BEGIN:DAYLIGHT
TZOFFSETFROM:+0100
TZOFFSETTO:+0200
TZNAME:CEST
DTSTART:20230326T010000
END:DAYLIGHT
BEGIN:STANDARD
TZOFFSETFROM:+0200
TZOFFSETTO:+0100
TZNAME:CET
DTSTART:20231029T010000
END:STANDARD
END:VTIMEZONE
BEGIN:VEVENT
DTSTART;TZID=Europe/Berlin:20220611T110000
DTEND;TZID=Europe/Berlin:20220611T110000
DTSTAMP:20260423T003713
CREATED:20220207T165200Z
LAST-MODIFIED:20220322T181338Z
UID:1694-1654945200-1654945200@erwachsene-geschwister.de
SUMMARY:erstes Geschwistertreffen Mitteldeutschland – Stärkung durch Begegnung
DESCRIPTION:Stärkung durch Begegnung\n11. Juni in Leipzig – Tagesveranstaltung\nLiebe Geschwister\, wir laden Euch zum ersten Geschwistertreffen Mitteldeutschland nach Leipzig ein. \nWir (erwachsene) Geschwister haben unser eigenes Leben und doch ist es mit dem Leben unserer besonderen Geschwister verbunden. Mal enger\, mal distanzierter\, doch immer ist es in unserem Hinterkopf. Ganz besonders\, wenn es „Umbrüche“ im Leben gibt\, müssen wir uns entscheiden.\nWie viel Verantwortung wollen wir übernehmen? Fühlt Ihr Euch auch manchmal „hin- und hergerissen“? Wie löst Ihr das? \nWir freuen uns auf Austausch\, neue Gedanken und auf Euch. Lasst uns zusammenkommen und bei einem gemeinsamen Picknick oder Spaziergang über unser Leben austauschen! \nAnmeldungen bitte bis 16.05.2022\nPer Mail: GeschwisterNetz.Thr@gmail.com \nEnde Mai 2022 sende ich allen „Anmeldungen“ das konkrete Programm zu. \nNur so viel sei schon gesagt: \n\nKennenlernen\nErwartungen an das Treffen\, Befürchtungen\, Vertraulichkeitsvereinbarung\nWalk & Talk zum Mittagessen\nAuswertung Walk & Talk – Plan für weitere Treffen:\n\nDie Kosten trägt jeder selbst. \nWir sind gespannt auf ein Kennenlernen und welche Themen für Euch interessant sind.\nEure Geschichte\nEure Geschwister\nEure Gefühle\nEure Gedanken \nHinweis: Sollte die Mindestteilnehmerzahl nicht zusammenkommen\, findet das Treffen leider nicht statt. \nBirgit Fercho \nKoordinator \nBirgit Fercho\, Erfurt\nPer Mail: GeschwisterNetz.Thr@gmail.com \nPer Telefon/ Whats App/ sms: \n01575 0954 510
URL:https://erwachsene-geschwister.de/event/erstes-geschwistertreffen-mitteldeutschland-staerkung-durch-begegnung/
LOCATION:Leipzig\, Leipzig
ATTACH;FMTTYPE=image/jpeg:https://erwachsene-geschwister.de/wp-content/uploads/2022/02/Logo.jpg
ORGANIZER;CN="Erwachsene Geschwister Th%C3%BCringen":MAILTO:GeschwisterNetz.Thr@gmail.com
END:VEVENT
BEGIN:VEVENT
DTSTART;TZID=Europe/Berlin:20220624T200000
DTEND;TZID=Europe/Berlin:20220624T200000
DTSTAMP:20260423T003713
CREATED:20220206T173644Z
LAST-MODIFIED:20220206T173644Z
UID:1678-1656100800-1656100800@erwachsene-geschwister.de
SUMMARY:Aachen Stammtisch Erwachsene Geschwister
DESCRIPTION:Es gibt Kinder und Jugendliche mit Behinderung. Es gibt deren Eltern und es gibt deren Geschwister. Fast immer übernehmen Geschwister vonKindern mit Behinderung selbstverständlich Verantwortung für ihren Bruder\, ihre Schwester. Sie wachsen damit auf.\nEs gibt dann diesen Zeitpunkt\, an dem man als Schwester oder Bruder mehr seine eigenen Wege geht. Man verlässt das Elternhaus\, gründet\nvielleicht eine eigene Familie und hat seine eigenen Sorgen und Herausforderungen. Aber irgendwann kommt das Gefühl der Verantwortung für\ndie Schwester\, den Bruder wieder etwas näher.\nVielleicht geht es dir auch so. Vielleicht hast auch du Dinge in der Kindheit erlebt\, die deine Freund:innen nicht so wahrgenommen haben.\nVielleicht verlässt deine Eltern\, die sich immer hingebungsvoll um deine Geschwister gekümmert haben\, die Kraft und du sorgst dich\, wie es für\ndeinen Bruder\, deine Schwester weitergeht.\nBei unserem Stammtisch triffst du Gleichgesinnte. Ihr könnt euch austauschen\, vernetzen\, euer Wissen teilen und erweitern. Ihr könnt einfach\nerwachsene Geschwister von Erwachsenen mit Behinderung sein und jede:r weiß\, worum es geht.\nDer Stammtisch befindet sich im Aufbau. Wir treffen uns im Rahmen des Offenen Treffs im Café des Lebenshilfe-Hauses. Dort gibt es die Möglichkeit\,\nje nach Themen der Treffen\, sich zurückzuziehen und ganz unter sich zu sein oder an der Theke etwas zu trinken.\nBetreut wird der Stammtisch von Anna Schruff und Lea Erkens\, beide sind erwachsene Geschwister von Menschen mit Behinderung.\nSchreib an aachen@erwachsene-geschwister.de wenn du teilnehmen willst.
URL:https://erwachsene-geschwister.de/event/aachen-stammtisch-erwachsene-geschwister-2/
LOCATION:Café im Lebenshilfe-Haus Aachen\, Adenauerallee 38\, Aachen\, 52066\, Deutschland
CATEGORIES:Stammtisch
ATTACH;FMTTYPE=image/jpeg:https://erwachsene-geschwister.de/wp-content/uploads/2014/06/regionalerstammtisch-1024x681.jpg
ORGANIZER;CN="Stammtisch Aachen":MAILTO:aachen@erwachsene-geschwister.de
END:VEVENT
BEGIN:VEVENT
DTSTART;TZID=Europe/Berlin:20220626T110000
DTEND;TZID=Europe/Berlin:20220626T130000
DTSTAMP:20260423T003713
CREATED:20220608T171617Z
LAST-MODIFIED:20220608T171926Z
UID:1755-1656241200-1656248400@erwachsene-geschwister.de
SUMMARY:Köln : moderierter Geschwister Talk
DESCRIPTION:Hast du Lust\, dich in einem moderierten GeschwisterTalk über tiefergehende Themen auszutauschen? Seit Anfang 2022 findet in regelmäßigen Abständen ein “ moderiertes GeschwisterTalk“-Treffen statt. Das Ziel des GeschwisterTalks besteht darin\, dass wir uns gegenseitig empowern und voneinander lernen können – oder uns einfach mal „auskotzen“ oder auch weinen können. Wir alle haben bereits viele Erfahrungen gesammelt und wir können uns gegenseitig in unserer persönlichen Entwicklung unterstützen. \nIn den Treffen sprechen wir gemeinsam über individuelle Situationen\, aktuelle Anliegen oder allgemeine Fragen wie zum Beispiel: \n\nWie geht es mir im Moment mit meiner Lebenssituation?\nWelche Auswirkungen hat mein Aufwachsen auf mich gehabt und hat es bis heute?\nInwiefern beeinflusst mein Aufwachsen meine Beziehungen?\nWie wird mein Selbstwert davon bestimmt?\nWie gehen ich mit den Themen Verantwortung und Schuld um?\nKann ich gesunde Grenzen ziehen?\n…\n\nDie Treffen finden in einem geschützten Raum statt\, sodass wir uns ungestört austauschen können. Methodisch ist eine Moderation angedacht\, damit Sprechanteile gleichmäßig verteilt werden und gemeinsam entschiedene Themenfelder tiefer bearbeitet werden können. \nWo? KU: – Raum\nBayenstraße 11\n50678 Köln \nExtras: Der Raum kann gegen Spende von uns genutzt werden. Ansonsten entstehen keine Kosten. \nKurz zu mir: Ich bin Naomi\, 28 Jahre und habe im Master Soziale Arbeit an der TH Köln studiert. Im Moment arbeite ich als Trainerin für diverse Workshops. Mein Bruder heißt Tiemo\, ist 22 Jahre alt und hat Trisomie21. \n  \n \n„keep calm it´s only an extra chromosome“ \n  \nIch habe mich in Form von mehreren Therapien und Teilnahmen an anderen Geschwistermeetings viel mit den Auswirkungen und meinen Verhaltensweisen aufgrund meiner Geschwistersituation beschäftigt. Mit dem GeschwisterTalk möchte ich gemeinsam noch mehr erfahren\, einen Austausch und Selbstreflexion fördern und uns gegenseitig empowern. \nIch freue mich\, wenn du dabei ist! 🙂 \nbitte schreib an naomi@erwachsene-geschwister.de wenn du dabei sein willst. \nLiebe Grüße Naomi
URL:https://erwachsene-geschwister.de/event/koeln-moderierter-geschwister-talk-4/
LOCATION:KU: – Raum\, Bayenstraße 11\, Köln\, 50678
CATEGORIES:Seminar
ORGANIZER;CN="Erwachsene Geschwister K%C3%B6ln - Naomi":MAILTO:naomi@erwachsene-geschiwster.de
END:VEVENT
END:VCALENDAR