BEGIN:VCALENDAR
VERSION:2.0
PRODID:-//Erwachsene Geschwister - ECPv6.15.20//NONSGML v1.0//EN
CALSCALE:GREGORIAN
METHOD:PUBLISH
X-ORIGINAL-URL:https://erwachsene-geschwister.de
X-WR-CALDESC:Veranstaltungen für Erwachsene Geschwister
REFRESH-INTERVAL;VALUE=DURATION:PT1H
X-Robots-Tag:noindex
X-PUBLISHED-TTL:PT1H
BEGIN:VTIMEZONE
TZID:Europe/Berlin
BEGIN:DAYLIGHT
TZOFFSETFROM:+0100
TZOFFSETTO:+0200
TZNAME:CEST
DTSTART:20220327T010000
END:DAYLIGHT
BEGIN:STANDARD
TZOFFSETFROM:+0200
TZOFFSETTO:+0100
TZNAME:CET
DTSTART:20221030T010000
END:STANDARD
BEGIN:DAYLIGHT
TZOFFSETFROM:+0100
TZOFFSETTO:+0200
TZNAME:CEST
DTSTART:20230326T010000
END:DAYLIGHT
BEGIN:STANDARD
TZOFFSETFROM:+0200
TZOFFSETTO:+0100
TZNAME:CET
DTSTART:20231029T010000
END:STANDARD
BEGIN:DAYLIGHT
TZOFFSETFROM:+0100
TZOFFSETTO:+0200
TZNAME:CEST
DTSTART:20240331T010000
END:DAYLIGHT
BEGIN:STANDARD
TZOFFSETFROM:+0200
TZOFFSETTO:+0100
TZNAME:CET
DTSTART:20241027T010000
END:STANDARD
END:VTIMEZONE
BEGIN:VEVENT
DTSTART;TZID=Europe/Berlin:20230824T190000
DTEND;TZID=Europe/Berlin:20230824T190000
DTSTAMP:20260421T215223
CREATED:20230212T124948Z
LAST-MODIFIED:20230810T203441Z
UID:1842-1692903600-1692903600@erwachsene-geschwister.de
SUMMARY:Starnberger Stammtisch Erwachsene Geschwister
DESCRIPTION:Erwachsene Geschwister von Menschen mit Behinderung treffen sich in der Region Starnberg zum gemeinsamen Austausch. Wir treffen uns in der Regel jeden 3. Donnerstag im Monat um 19 Uhr in Starnberg. Bei Interesse bitte Mail an geschwistertreffen@icloud.com
URL:https://erwachsene-geschwister.de/event/starnberger-stammtisch-erwachsene-geschwister-7/
LOCATION:Starnberg\, Starnberg\, Deutschland
CATEGORIES:Stammtisch
ATTACH;FMTTYPE=image/png:https://erwachsene-geschwister.de/wp-content/uploads/2023/02/Erwachsene-Geschwister_STA.png
ORGANIZER;CN="Stammtisch Starnberg":MAILTO:geschwistertreffen@icloud.com
END:VEVENT
END:VCALENDAR